BEGIN:VCALENDAR
VERSION:2.0
PRODID:-//Unitre San Mauro//NONSGML kigkonsult.se iCalcreator 2.30.10//
CALSCALE:GREGORIAN
METHOD:PUBLISH
UID:ddc6e479-76bd-4b71-a39d-57e9a4fa7320
X-WR-CALNAME:iCagenda
X-WR-CALDESC:Event Management Extension for Joomla!
X-WR-RELCALID:3E26604A-50F4-4449-8B3E-E4F4932D05B5
X-WR-TIMEZONE:UTC
BEGIN:VTIMEZONE
TZID:UTC
END:VTIMEZONE
BEGIN:VEVENT
UID:9bdf885d-2c6c-4d86-81ec-737a328fed01
DTSTAMP:20260425T043136Z
CATEGORIES:Corsi e incontri
CLASS:PUBLIC
DESCRIPTION:
DTSTART:20251124T160000Z
DTEND:20251124T160000Z
GEO:00;0
LOCATION:
ORGANIZER:
SEQUENCE:1
SUMMARY:Letteratura e civilizzazione francese
TRANSP:OPAQUE
URL:https://www.unitresanmauro.it/index.php/component/icagenda/189-letterat
 ura-e-civilizzazione-francese/2025-11-24-16-00
END:VEVENT
END:VCALENDAR
