BEGIN:VCALENDAR
VERSION:2.0
PRODID:-//Unitre San Mauro//NONSGML kigkonsult.se iCalcreator 2.30.10//
CALSCALE:GREGORIAN
METHOD:PUBLISH
UID:c33f8d73-8d29-414b-8c13-d54892e5995f
X-WR-CALNAME:iCagenda
X-WR-CALDESC:Event Management Extension for Joomla!
X-WR-RELCALID:3E26604A-50F4-4449-8B3E-E4F4932D05B5
X-WR-TIMEZONE:UTC
BEGIN:VTIMEZONE
TZID:UTC
END:VTIMEZONE
BEGIN:VEVENT
UID:b5c87536-c0bb-443a-9dd6-bab5c29e9b40
DTSTAMP:20260421T142059Z
CATEGORIES:Corsi e incontri
CLASS:PUBLIC
DESCRIPTION:
DTSTART:20260420T160000Z
DTEND:20260420T160000Z
GEO:00;0
LOCATION:
ORGANIZER:
SEQUENCE:1
SUMMARY:Poirot: la superba solitudinedi chi ha sempre ragione!
TRANSP:OPAQUE
URL:https://www.unitresanmauro.it/index.php/component/icagenda/190-poirot-l
 a-superba-solitudinedi-chi-ha-sempre-ragione/2026-04-20-16-00
END:VEVENT
END:VCALENDAR
