BEGIN:VCALENDAR
VERSION:2.0
PRODID:-//Unitre San Mauro//NONSGML kigkonsult.se iCalcreator 2.30.10//
CALSCALE:GREGORIAN
METHOD:PUBLISH
UID:d4f93896-4b7a-4b4f-a627-cdc2544a69a2
X-WR-CALNAME:iCagenda
X-WR-CALDESC:Event Management Extension for Joomla!
X-WR-RELCALID:3E26604A-50F4-4449-8B3E-E4F4932D05B5
X-WR-TIMEZONE:UTC
BEGIN:VTIMEZONE
TZID:UTC
END:VTIMEZONE
BEGIN:VEVENT
UID:0ae8120a-c77b-42fe-8c64-90a3924981b4
DTSTAMP:20260425T003745Z
CATEGORIES:Corsi e incontri
CLASS:PUBLIC
DESCRIPTION:
DTSTART:20260113T160000Z
DTEND:20260113T160000Z
GEO:00;0
LOCATION:
ORGANIZER:
SEQUENCE:1
SUMMARY:La prevenzione\, l'arma più efficace contro il cancro
TRANSP:OPAQUE
URL:https://www.unitresanmauro.it/index.php/component/icagenda/196-la-preve
 nzione-larma-piu-efficace-contro-il-cancro/2026-01-13-16-00
END:VEVENT
END:VCALENDAR
