BEGIN:VCALENDAR
VERSION:2.0
PRODID:-//Unitre San Mauro//NONSGML kigkonsult.se iCalcreator 2.30.10//
CALSCALE:GREGORIAN
METHOD:PUBLISH
UID:604b1831-2279-43f6-a02d-6576d8f70bf5
X-WR-CALNAME:iCagenda
X-WR-CALDESC:Event Management Extension for Joomla!
X-WR-RELCALID:3E26604A-50F4-4449-8B3E-E4F4932D05B5
X-WR-TIMEZONE:UTC
BEGIN:VTIMEZONE
TZID:UTC
END:VTIMEZONE
BEGIN:VEVENT
UID:64378c13-b5a5-4c47-a4b6-c6630d0e5bd0
DTSTAMP:20260425T042019Z
CATEGORIES:Corsi e incontri
CLASS:PUBLIC
DESCRIPTION:
DTSTART:20251007T160000Z
DTEND:20251007T180000Z
GEO:00;0
LOCATION:
ORGANIZER:
SEQUENCE:1
SUMMARY:Ucraina: passato\, presente e futuro
TRANSP:OPAQUE
URL:https://www.unitresanmauro.it/index.php/component/icagenda/198-ucraina-
 passato-presente-e-futuro/2025-10-07-16-00
END:VEVENT
END:VCALENDAR
