BEGIN:VCALENDAR
VERSION:2.0
PRODID:-//Unitre San Mauro//NONSGML kigkonsult.se iCalcreator 2.30.10//
CALSCALE:GREGORIAN
METHOD:PUBLISH
UID:9db4aacb-01df-46c0-b616-67779fc94444
X-WR-CALNAME:iCagenda
X-WR-CALDESC:Event Management Extension for Joomla!
X-WR-RELCALID:3E26604A-50F4-4449-8B3E-E4F4932D05B5
X-WR-TIMEZONE:UTC
BEGIN:VTIMEZONE
TZID:UTC
END:VTIMEZONE
BEGIN:VEVENT
UID:a50cf217-648d-4ef9-afca-0be0e563022a
DTSTAMP:20260425T043134Z
CATEGORIES:Corsi e incontri
CLASS:PUBLIC
DESCRIPTION:
DTSTART:20251021T160000Z
DTEND:20251021T180000Z
GEO:00;0
LOCATION:
ORGANIZER:
SEQUENCE:1
SUMMARY:Una passeggiata in naturopatia
TRANSP:OPAQUE
URL:https://www.unitresanmauro.it/index.php/component/icagenda/199-una-pass
 eggiata-in-naturopatia-2/2025-10-21-16-00
END:VEVENT
END:VCALENDAR
