BEGIN:VCALENDAR
VERSION:2.0
PRODID:-//Unitre San Mauro//NONSGML kigkonsult.se iCalcreator 2.30.10//
CALSCALE:GREGORIAN
METHOD:PUBLISH
UID:8ca714cb-021a-492e-8f33-408e49668fe7
X-WR-CALNAME:iCagenda
X-WR-CALDESC:Event Management Extension for Joomla!
X-WR-RELCALID:3E26604A-50F4-4449-8B3E-E4F4932D05B5
X-WR-TIMEZONE:UTC
BEGIN:VTIMEZONE
TZID:UTC
END:VTIMEZONE
BEGIN:VEVENT
UID:c10c73f3-2295-4d49-932b-867c62301e2c
DTSTAMP:20260425T043133Z
CATEGORIES:Corsi e incontri
CLASS:PUBLIC
DESCRIPTION:
DTSTART:20251118T160000Z
DTEND:20251118T160000Z
GEO:00;0
LOCATION:
ORGANIZER:
SEQUENCE:1
SUMMARY:Una passeggiata in naturopatia
TRANSP:OPAQUE
URL:https://www.unitresanmauro.it/index.php/component/icagenda/199-una-pass
 eggiata-in-naturopatia-2/2025-11-18-16-00
END:VEVENT
END:VCALENDAR
