BEGIN:VCALENDAR
VERSION:2.0
PRODID:-//Unitre San Mauro//NONSGML kigkonsult.se iCalcreator 2.30.10//
CALSCALE:GREGORIAN
METHOD:PUBLISH
UID:e25a9263-4d06-4102-9bae-10fcb747b70a
X-WR-CALNAME:iCagenda
X-WR-CALDESC:Event Management Extension for Joomla!
X-WR-RELCALID:3E26604A-50F4-4449-8B3E-E4F4932D05B5
X-WR-TIMEZONE:UTC
BEGIN:VTIMEZONE
TZID:UTC
END:VTIMEZONE
BEGIN:VEVENT
UID:7b2b3f3f-57e7-45bf-8e5b-95257857d0a2
DTSTAMP:20260425T003606Z
CATEGORIES:Corsi e incontri
CLASS:PUBLIC
DESCRIPTION:
DTSTART:20260107T160000Z
DTEND:20260107T180000Z
GEO:00;0
LOCATION:
ORGANIZER:
SEQUENCE:1
SUMMARY:Ai confini del Biotech
TRANSP:OPAQUE
URL:https://www.unitresanmauro.it/index.php/component/icagenda/200-ai-confi
 ni-del-biotech/2026-01-07-16-00
END:VEVENT
END:VCALENDAR
