BEGIN:VCALENDAR
VERSION:2.0
PRODID:-//Unitre San Mauro//NONSGML kigkonsult.se iCalcreator 2.30.10//
CALSCALE:GREGORIAN
METHOD:PUBLISH
UID:2b7f11ff-2e1c-47d2-9553-d8a539e9fef7
X-WR-CALNAME:iCagenda
X-WR-CALDESC:Event Management Extension for Joomla!
X-WR-RELCALID:3E26604A-50F4-4449-8B3E-E4F4932D05B5
X-WR-TIMEZONE:UTC
BEGIN:VTIMEZONE
TZID:UTC
END:VTIMEZONE
BEGIN:VEVENT
UID:5e64b063-15ff-4fe4-9ee6-209533e0432a
DTSTAMP:20260424T175732Z
CATEGORIES:Corsi e incontri
CLASS:PUBLIC
DESCRIPTION:
DTSTART:20260304T160000Z
DTEND:20260304T160000Z
GEO:00;0
LOCATION:
ORGANIZER:
SEQUENCE:1
SUMMARY:La letteratura è una difesa contro le offese della vita. (Cesare Pa
 vese)
TRANSP:OPAQUE
URL:https://www.unitresanmauro.it/index.php/component/icagenda/202-la-lette
 ratura-e-una-difesa-contro-le-offese-della-vita-cesare-pavese/2026-03-04-1
 6-00
END:VEVENT
END:VCALENDAR
