BEGIN:VCALENDAR
VERSION:2.0
PRODID:-//Unitre San Mauro//NONSGML kigkonsult.se iCalcreator 2.30.10//
CALSCALE:GREGORIAN
METHOD:PUBLISH
UID:c6413bed-94f6-4f3e-8e62-5429a1e5d318
X-WR-CALNAME:iCagenda
X-WR-CALDESC:Event Management Extension for Joomla!
X-WR-RELCALID:3E26604A-50F4-4449-8B3E-E4F4932D05B5
X-WR-TIMEZONE:UTC
BEGIN:VTIMEZONE
TZID:UTC
END:VTIMEZONE
BEGIN:VEVENT
UID:004d6bd6-901b-4537-98f7-ad3674a5e588
DTSTAMP:20260419T142752Z
CATEGORIES:Corsi e incontri
CLASS:PUBLIC
DESCRIPTION:
DTSTART:20260415T160000Z
DTEND:20260415T160000Z
GEO:00;0
LOCATION:
ORGANIZER:
SEQUENCE:1
SUMMARY:La letteratura è una difesa contro le offese della vita. (Cesare Pa
 vese)
TRANSP:OPAQUE
URL:https://www.unitresanmauro.it/index.php/component/icagenda/202-la-lette
 ratura-e-una-difesa-contro-le-offese-della-vita-cesare-pavese/2026-04-15-1
 6-00
END:VEVENT
END:VCALENDAR
