BEGIN:VCALENDAR
VERSION:2.0
PRODID:-//Unitre San Mauro//NONSGML kigkonsult.se iCalcreator 2.30.10//
CALSCALE:GREGORIAN
METHOD:PUBLISH
UID:0b6696b3-4be1-4252-894d-afc769f10b54
X-WR-CALNAME:iCagenda
X-WR-CALDESC:Event Management Extension for Joomla!
X-WR-RELCALID:3E26604A-50F4-4449-8B3E-E4F4932D05B5
X-WR-TIMEZONE:UTC
BEGIN:VTIMEZONE
TZID:UTC
END:VTIMEZONE
BEGIN:VEVENT
UID:79822be5-42d1-4364-86e4-e407d5040778
DTSTAMP:20260425T003653Z
CATEGORIES:Corsi e incontri
CLASS:PUBLIC
DESCRIPTION:
DTSTART:20260115T160000Z
DTEND:20260115T180000Z
GEO:00;0
LOCATION:
ORGANIZER:
SEQUENCE:1
SUMMARY:Alimentazione e salute: le risposte scientifiche
TRANSP:OPAQUE
URL:https://www.unitresanmauro.it/index.php/component/icagenda/203-alimenta
 zione-e-salute-le-risposte-scientifiche/2026-01-15-16-00
END:VEVENT
END:VCALENDAR
