BEGIN:VCALENDAR
VERSION:2.0
PRODID:-//Unitre San Mauro//NONSGML kigkonsult.se iCalcreator 2.30.10//
CALSCALE:GREGORIAN
METHOD:PUBLISH
UID:34b4f225-8079-4219-abd7-d358ff441f34
X-WR-CALNAME:iCagenda
X-WR-CALDESC:Event Management Extension for Joomla!
X-WR-RELCALID:3E26604A-50F4-4449-8B3E-E4F4932D05B5
X-WR-TIMEZONE:UTC
BEGIN:VTIMEZONE
TZID:UTC
END:VTIMEZONE
BEGIN:VEVENT
UID:aba1fa0d-fdfa-4f0c-bc15-3a05ef5d3143
DTSTAMP:20260425T042137Z
CATEGORIES:Corsi e incontri
CLASS:PUBLIC
DESCRIPTION:
DTSTART:20251009T160000Z
DTEND:20251009T160000Z
GEO:00;0
LOCATION:
ORGANIZER:
SEQUENCE:1
SUMMARY:Grafologia: uno strumento per conoscere meglio se stessi e gli altr
 i
TRANSP:OPAQUE
URL:https://www.unitresanmauro.it/index.php/component/icagenda/204-grafolog
 ia-uno-strumento-per-conoscere-meglio-se-stessi-e-gli-altri/2025-10-09-16-
 00
END:VEVENT
END:VCALENDAR
