BEGIN:VCALENDAR
VERSION:2.0
PRODID:-//Unitre San Mauro//NONSGML kigkonsult.se iCalcreator 2.30.10//
CALSCALE:GREGORIAN
METHOD:PUBLISH
UID:ecf6910d-9d27-4acf-9b8d-b5a80162c7ee
X-WR-CALNAME:iCagenda
X-WR-CALDESC:Event Management Extension for Joomla!
X-WR-RELCALID:3E26604A-50F4-4449-8B3E-E4F4932D05B5
X-WR-TIMEZONE:UTC
BEGIN:VTIMEZONE
TZID:UTC
END:VTIMEZONE
BEGIN:VEVENT
UID:448f1790-2820-4990-8934-b137aaef7d44
DTSTAMP:20260425T042136Z
CATEGORIES:Corsi e incontri
CLASS:PUBLIC
DESCRIPTION:
DTSTART:20251016T160000Z
DTEND:20251016T180000Z
GEO:00;0
LOCATION:
ORGANIZER:
SEQUENCE:1
SUMMARY:I giganti delle Alpi: le fortificazioni piemontesi
TRANSP:OPAQUE
URL:https://www.unitresanmauro.it/index.php/component/icagenda/205-i-gigant
 i-delle-alpi-le-fortificazioni-piemontesi/2025-10-16-16-00
END:VEVENT
END:VCALENDAR
