BEGIN:VCALENDAR
VERSION:2.0
PRODID:-//Unitre San Mauro//NONSGML kigkonsult.se iCalcreator 2.30.10//
CALSCALE:GREGORIAN
METHOD:PUBLISH
UID:622ba340-5f76-4e19-b7c1-f91e2f2c85bf
X-WR-CALNAME:iCagenda
X-WR-CALDESC:Event Management Extension for Joomla!
X-WR-RELCALID:3E26604A-50F4-4449-8B3E-E4F4932D05B5
X-WR-TIMEZONE:UTC
BEGIN:VTIMEZONE
TZID:UTC
END:VTIMEZONE
BEGIN:VEVENT
UID:dac3478b-5c06-45dd-9dae-76a705bf4c28
DTSTAMP:20260425T042136Z
CATEGORIES:Corsi e incontri
CLASS:PUBLIC
DESCRIPTION:
DTSTART:20251127T160000Z
DTEND:20251127T160000Z
GEO:00;0
LOCATION:
ORGANIZER:
SEQUENCE:1
SUMMARY:I giganti delle Alpi: le fortificazioni piemontesi
TRANSP:OPAQUE
URL:https://www.unitresanmauro.it/index.php/component/icagenda/205-i-gigant
 i-delle-alpi-le-fortificazioni-piemontesi/2025-11-27-16-00
END:VEVENT
END:VCALENDAR
