BEGIN:VCALENDAR
VERSION:2.0
PRODID:-//Unitre San Mauro//NONSGML kigkonsult.se iCalcreator 2.30.10//
CALSCALE:GREGORIAN
METHOD:PUBLISH
UID:fd3dadc9-4439-4819-b222-4c0abd6cb01e
X-WR-CALNAME:iCagenda
X-WR-CALDESC:Event Management Extension for Joomla!
X-WR-RELCALID:3E26604A-50F4-4449-8B3E-E4F4932D05B5
X-WR-TIMEZONE:UTC
BEGIN:VTIMEZONE
TZID:UTC
END:VTIMEZONE
BEGIN:VEVENT
UID:d23c0b34-f763-448b-bf8a-a3872438caea
DTSTAMP:20260425T005653Z
CATEGORIES:Corsi e incontri
CLASS:PUBLIC
DESCRIPTION:
DTSTART:20260116T160000Z
DTEND:20260116T160000Z
GEO:00;0
LOCATION:
ORGANIZER:
SEQUENCE:1
SUMMARY:postura e dolore: la causa del dolore non è mai dove esso si manife
 sta - strategie di trattamento
TRANSP:OPAQUE
URL:https://www.unitresanmauro.it/index.php/component/icagenda/206-postura-
 e-dolore-la-causa-del-dolore-non-e-mai-dove-esso-si-manifesta-strategie-di
 -trattamento/2026-01-16-16-00
END:VEVENT
END:VCALENDAR
