BEGIN:VCALENDAR
VERSION:2.0
PRODID:-//Unitre San Mauro//NONSGML kigkonsult.se iCalcreator 2.30.10//
CALSCALE:GREGORIAN
METHOD:PUBLISH
UID:5501a9ab-e47d-4425-8340-9e25f18fbfb4
X-WR-CALNAME:iCagenda
X-WR-CALDESC:Event Management Extension for Joomla!
X-WR-RELCALID:3E26604A-50F4-4449-8B3E-E4F4932D05B5
X-WR-TIMEZONE:UTC
BEGIN:VTIMEZONE
TZID:UTC
END:VTIMEZONE
BEGIN:VEVENT
UID:169656d1-c849-4bb6-affe-b140ead82782
DTSTAMP:20260425T041107Z
CATEGORIES:Laboratori
CLASS:PUBLIC
DESCRIPTION:
DTSTART:20251006T093000Z
DTEND:20251006T113000Z
GEO:00;0
LOCATION:
ORGANIZER:
SEQUENCE:1
SUMMARY:Corso di chitarra - principianti
TRANSP:OPAQUE
URL:https://www.unitresanmauro.it/index.php/component/icagenda/207-corso-di
 -chitarra-principianti/2025-10-06-09-30
END:VEVENT
END:VCALENDAR
