BEGIN:VCALENDAR
VERSION:2.0
PRODID:-//Unitre San Mauro//NONSGML kigkonsult.se iCalcreator 2.30.10//
CALSCALE:GREGORIAN
METHOD:PUBLISH
UID:44232096-66e9-401e-8fb9-a40fe46cf7d2
X-WR-CALNAME:iCagenda
X-WR-CALDESC:Event Management Extension for Joomla!
X-WR-RELCALID:3E26604A-50F4-4449-8B3E-E4F4932D05B5
X-WR-TIMEZONE:UTC
BEGIN:VTIMEZONE
TZID:UTC
END:VTIMEZONE
BEGIN:VEVENT
UID:cdc728a8-2518-4934-9088-b09577bc2d2b
DTSTAMP:20260425T041133Z
CATEGORIES:Laboratori
CLASS:PUBLIC
DESCRIPTION:
DTSTART:20251117T093000Z
DTEND:20251117T093000Z
GEO:00;0
LOCATION:
ORGANIZER:
SEQUENCE:1
SUMMARY:Corso di chitarra - principianti
TRANSP:OPAQUE
URL:https://www.unitresanmauro.it/index.php/component/icagenda/207-corso-di
 -chitarra-principianti/2025-11-17-09-30
END:VEVENT
END:VCALENDAR
