BEGIN:VCALENDAR
VERSION:2.0
PRODID:-//Unitre San Mauro//NONSGML kigkonsult.se iCalcreator 2.30.10//
CALSCALE:GREGORIAN
METHOD:PUBLISH
UID:968b8abe-71d2-4876-ab30-87bc9125376e
X-WR-CALNAME:iCagenda
X-WR-CALDESC:Event Management Extension for Joomla!
X-WR-RELCALID:3E26604A-50F4-4449-8B3E-E4F4932D05B5
X-WR-TIMEZONE:UTC
BEGIN:VTIMEZONE
TZID:UTC
END:VTIMEZONE
BEGIN:VEVENT
UID:90e25302-a7dc-4e45-9203-4e2e1b554742
DTSTAMP:20260421T142100Z
CATEGORIES:Laboratori
CLASS:PUBLIC
DESCRIPTION:
DTSTART:20260420T093000Z
DTEND:20260420T093000Z
GEO:00;0
LOCATION:
ORGANIZER:
SEQUENCE:1
SUMMARY:Corso di chitarra - principianti
TRANSP:OPAQUE
URL:https://www.unitresanmauro.it/index.php/component/icagenda/207-corso-di
 -chitarra-principianti/2026-04-20-09-30
END:VEVENT
END:VCALENDAR
