BEGIN:VCALENDAR
VERSION:2.0
PRODID:-//Unitre San Mauro//NONSGML kigkonsult.se iCalcreator 2.30.10//
CALSCALE:GREGORIAN
METHOD:PUBLISH
UID:1a49c568-d1bc-4de0-9eaf-c259f35c746b
X-WR-CALNAME:iCagenda
X-WR-CALDESC:Event Management Extension for Joomla!
X-WR-RELCALID:3E26604A-50F4-4449-8B3E-E4F4932D05B5
X-WR-TIMEZONE:UTC
BEGIN:VTIMEZONE
TZID:UTC
END:VTIMEZONE
BEGIN:VEVENT
UID:7b9a645a-c646-4000-bd27-9f9ec42125f3
DTSTAMP:20260425T003745Z
CATEGORIES:Laboratori
CLASS:PUBLIC
DESCRIPTION:
DTSTART:20260109T160000Z
DTEND:20260109T160000Z
GEO:00;0
LOCATION:
ORGANIZER:
SEQUENCE:1
SUMMARY:ritratto ad olio con la tecnica delle velature (corso a numero chiu
 so)
TRANSP:OPAQUE
URL:https://www.unitresanmauro.it/index.php/component/icagenda/210-ritratto
 -ad-olio-con-la-tecnica-delle-velature-corso-a-numero-chiuso/2026-01-09-16
 -00
END:VEVENT
END:VCALENDAR
