BEGIN:VCALENDAR
VERSION:2.0
PRODID:-//Unitre San Mauro//NONSGML kigkonsult.se iCalcreator 2.30.10//
CALSCALE:GREGORIAN
METHOD:PUBLISH
UID:b62f93d2-3c17-4ded-95a8-3a64d050c255
X-WR-CALNAME:iCagenda
X-WR-CALDESC:Event Management Extension for Joomla!
X-WR-RELCALID:3E26604A-50F4-4449-8B3E-E4F4932D05B5
X-WR-TIMEZONE:UTC
BEGIN:VTIMEZONE
TZID:UTC
END:VTIMEZONE
BEGIN:VEVENT
UID:24ea39f9-da43-4b50-91f5-2671f4b211d0
DTSTAMP:20260424T175517Z
CATEGORIES:Laboratori
CLASS:PUBLIC
DESCRIPTION:
DTSTART:20260306T160000Z
DTEND:20260306T160000Z
GEO:00;0
LOCATION:
ORGANIZER:
SEQUENCE:1
SUMMARY:ritratto ad olio con la tecnica delle velature (corso a numero chiu
 so)
TRANSP:OPAQUE
URL:https://www.unitresanmauro.it/index.php/component/icagenda/210-ritratto
 -ad-olio-con-la-tecnica-delle-velature-corso-a-numero-chiuso/2026-03-06-16
 -00
END:VEVENT
END:VCALENDAR
