BEGIN:VCALENDAR
VERSION:2.0
PRODID:-//Unitre San Mauro//NONSGML kigkonsult.se iCalcreator 2.30.10//
CALSCALE:GREGORIAN
METHOD:PUBLISH
UID:031ce9f8-740f-448b-99bf-110ee3002a0a
X-WR-CALNAME:iCagenda
X-WR-CALDESC:Event Management Extension for Joomla!
X-WR-RELCALID:3E26604A-50F4-4449-8B3E-E4F4932D05B5
X-WR-TIMEZONE:UTC
BEGIN:VTIMEZONE
TZID:UTC
END:VTIMEZONE
BEGIN:VEVENT
UID:26995669-a75b-428a-ab1a-a73c7bc3442c
DTSTAMP:20260425T022905Z
CATEGORIES:Evento
CLASS:PUBLIC
DESCRIPTION:
DTSTART:20250921T083000Z
DTEND:20250921T170000Z
GEO:00;0
LOCATION:
ORGANIZER:
SEQUENCE:1
SUMMARY:Gazebo sul ponte vecchio di San Mauro
TRANSP:OPAQUE
URL:https://www.unitresanmauro.it/index.php/component/icagenda/211-gazebo-s
 ul-ponte-vecchio-di-san-mauro
END:VEVENT
END:VCALENDAR
