BEGIN:VCALENDAR
VERSION:2.0
PRODID:-//Unitre San Mauro//NONSGML kigkonsult.se iCalcreator 2.30.10//
CALSCALE:GREGORIAN
METHOD:PUBLISH
UID:19401aad-f75c-46b0-90d3-7ff5269415e9
X-WR-CALNAME:iCagenda
X-WR-CALDESC:Event Management Extension for Joomla!
X-WR-RELCALID:3E26604A-50F4-4449-8B3E-E4F4932D05B5
X-WR-TIMEZONE:UTC
BEGIN:VTIMEZONE
TZID:UTC
END:VTIMEZONE
BEGIN:VEVENT
UID:0062946b-ec6b-4e3e-ac18-552a9c117fb5
DTSTAMP:20260419T142752Z
CATEGORIES:Laboratori
CLASS:PUBLIC
DESCRIPTION:
DTSTART:20260415T160000Z
DTEND:20260415T160000Z
GEO:00;0
LOCATION:
ORGANIZER:
SEQUENCE:1
SUMMARY:Modelliamo la creta - per principianti
TRANSP:OPAQUE
URL:https://www.unitresanmauro.it/index.php/component/icagenda/213-modellia
 mo-la-creta-per-principianti/2026-04-15-16-00
END:VEVENT
END:VCALENDAR
