BEGIN:VCALENDAR
VERSION:2.0
PRODID:-//Unitre San Mauro//NONSGML kigkonsult.se iCalcreator 2.30.10//
CALSCALE:GREGORIAN
METHOD:PUBLISH
UID:1cb023a3-ef89-4479-9d59-1d664dedfa61
X-WR-CALNAME:iCagenda
X-WR-CALDESC:Event Management Extension for Joomla!
X-WR-RELCALID:3E26604A-50F4-4449-8B3E-E4F4932D05B5
X-WR-TIMEZONE:UTC
BEGIN:VTIMEZONE
TZID:UTC
END:VTIMEZONE
BEGIN:VEVENT
UID:b3eb496a-27ba-467b-b950-a5b452396301
DTSTAMP:20260424T160502Z
CATEGORIES:Laboratori
CLASS:PUBLIC
DESCRIPTION:
DTSTART:20260422T160000Z
DTEND:20260422T160000Z
GEO:00;0
LOCATION:
ORGANIZER:
SEQUENCE:1
SUMMARY:Modelliamo la creta - per principianti
TRANSP:OPAQUE
URL:https://www.unitresanmauro.it/index.php/component/icagenda/213-modellia
 mo-la-creta-per-principianti/2026-04-22-16-00
END:VEVENT
END:VCALENDAR
