BEGIN:VCALENDAR
VERSION:2.0
PRODID:-//Unitre San Mauro//NONSGML kigkonsult.se iCalcreator 2.30.10//
CALSCALE:GREGORIAN
METHOD:PUBLISH
UID:a1c82790-db7f-4f8c-b718-b4f896f7bd68
X-WR-CALNAME:iCagenda
X-WR-CALDESC:Event Management Extension for Joomla!
X-WR-RELCALID:3E26604A-50F4-4449-8B3E-E4F4932D05B5
X-WR-TIMEZONE:UTC
BEGIN:VTIMEZONE
TZID:UTC
END:VTIMEZONE
BEGIN:VEVENT
UID:730039da-0b19-4cc4-bc79-1c8b5e355792
DTSTAMP:20260425T040722Z
CATEGORIES:Evento
CLASS:PUBLIC
DESCRIPTION:
DTSTART:20251114T160000Z
DTEND:20251114T180000Z
GEO:00;0
LOCATION:
ORGANIZER:
SEQUENCE:1
SUMMARY:ASSEMBLEA ASSOCIATI
TRANSP:OPAQUE
URL:https://www.unitresanmauro.it/index.php/component/icagenda/214-assemble
 a-associati/2025-11-14-16-00
END:VEVENT
END:VCALENDAR
