BEGIN:VCALENDAR
VERSION:2.0
PRODID:-//Unitre San Mauro//NONSGML kigkonsult.se iCalcreator 2.30.10//
CALSCALE:GREGORIAN
METHOD:PUBLISH
UID:c4510440-c38f-4aae-8676-8b394b91304f
X-WR-CALNAME:iCagenda
X-WR-CALDESC:Event Management Extension for Joomla!
X-WR-RELCALID:3E26604A-50F4-4449-8B3E-E4F4932D05B5
X-WR-TIMEZONE:UTC
BEGIN:VTIMEZONE
TZID:UTC
END:VTIMEZONE
BEGIN:VEVENT
UID:360c65b4-565e-4e8c-9800-fc3e648f0ca9
DTSTAMP:20260425T040534Z
CATEGORIES:Corsi e incontri
CLASS:PUBLIC
DESCRIPTION:
DTSTART:20251120T160000Z
DTEND:20251120T160000Z
GEO:00;0
LOCATION:
ORGANIZER:
SEQUENCE:1
SUMMARY:Elementi di disegno
TRANSP:OPAQUE
URL:https://www.unitresanmauro.it/index.php/component/icagenda/215-elementi
 -di-disegno-2/2025-11-20-16-00
END:VEVENT
END:VCALENDAR
