BEGIN:VCALENDAR
VERSION:2.0
PRODID:-//Unitre San Mauro//NONSGML kigkonsult.se iCalcreator 2.30.10//
CALSCALE:GREGORIAN
METHOD:PUBLISH
UID:b48e4443-b41d-4d36-9a6d-2a3092f6bcbd
X-WR-CALNAME:iCagenda
X-WR-CALDESC:Event Management Extension for Joomla!
X-WR-RELCALID:3E26604A-50F4-4449-8B3E-E4F4932D05B5
X-WR-TIMEZONE:UTC
BEGIN:VTIMEZONE
TZID:UTC
END:VTIMEZONE
BEGIN:VEVENT
UID:73b05982-e6e6-4085-b1ff-19e158006fd9
DTSTAMP:20260425T003601Z
CATEGORIES:Corsi e incontri
CLASS:PUBLIC
DESCRIPTION:
DTSTART:20260115T160000Z
DTEND:20260115T160000Z
GEO:00;0
LOCATION:
ORGANIZER:
SEQUENCE:1
SUMMARY:Elementi di disegno
TRANSP:OPAQUE
URL:https://www.unitresanmauro.it/index.php/component/icagenda/215-elementi
 -di-disegno-2/2026-01-15-16-00
END:VEVENT
END:VCALENDAR
