BEGIN:VCALENDAR
VERSION:2.0
PRODID:-//Unitre San Mauro//NONSGML kigkonsult.se iCalcreator 2.30.10//
CALSCALE:GREGORIAN
METHOD:PUBLISH
UID:a1c54d08-e449-4cac-b8d0-ca296e3ddd1e
X-WR-CALNAME:iCagenda
X-WR-CALDESC:Event Management Extension for Joomla!
X-WR-RELCALID:3E26604A-50F4-4449-8B3E-E4F4932D05B5
X-WR-TIMEZONE:UTC
BEGIN:VTIMEZONE
TZID:UTC
END:VTIMEZONE
BEGIN:VEVENT
UID:ebdf705a-7bdb-4f3d-bfa0-6cd30bb60126
DTSTAMP:20260425T041821Z
CATEGORIES:Lingue straniere
CLASS:PUBLIC
DESCRIPTION;ALTREP="CID:<FFFF__=0ABBE548DFE235B58f9e8a93d@coffeebean.com>":
 Orario lezione: 14.45 - 15.50\nlettura e commento di un libro scelto dai p
 artecipanti. Approfondimento della sintassi riguardante le proposizioni se
 condarie.
DTSTART:20251125T144500Z
DTEND:20251125T144500Z
GEO:00;0
LOCATION:
ORGANIZER:
SEQUENCE:1
SUMMARY:Tedesco 3° Livello
TRANSP:OPAQUE
URL:https://www.unitresanmauro.it/index.php/component/icagenda/22-tedesco-3
 -livello/2025-11-25-14-45
END:VEVENT
END:VCALENDAR
