BEGIN:VCALENDAR
VERSION:2.0
PRODID:-//Unitre San Mauro//NONSGML kigkonsult.se iCalcreator 2.30.10//
CALSCALE:GREGORIAN
METHOD:PUBLISH
UID:bc815bf1-d718-4a97-8da1-e0abb69e5106
X-WR-CALNAME:iCagenda
X-WR-CALDESC:Event Management Extension for Joomla!
X-WR-RELCALID:3E26604A-50F4-4449-8B3E-E4F4932D05B5
X-WR-TIMEZONE:UTC
BEGIN:VTIMEZONE
TZID:UTC
END:VTIMEZONE
BEGIN:VEVENT
UID:e24bc19d-aea7-47f9-a575-8e04d5bc620a
DTSTAMP:20260425T003539Z
CATEGORIES:Lingue straniere
CLASS:PUBLIC
DESCRIPTION;ALTREP="CID:<FFFF__=0ABBE548DFE235B58f9e8a93d@coffeebean.com>":
 Orario lezione: 14.45 - 15.50\nlettura e commento di un libro scelto dai p
 artecipanti. Approfondimento della sintassi riguardante le proposizioni se
 condarie.
DTSTART:20260113T144500Z
DTEND:20260113T144500Z
GEO:00;0
LOCATION:
ORGANIZER:
SEQUENCE:1
SUMMARY:Tedesco 3° Livello
TRANSP:OPAQUE
URL:https://www.unitresanmauro.it/index.php/component/icagenda/22-tedesco-3
 -livello/2026-01-13-14-45
END:VEVENT
END:VCALENDAR
