BEGIN:VCALENDAR
VERSION:2.0
PRODID:-//Unitre San Mauro//NONSGML kigkonsult.se iCalcreator 2.30.10//
CALSCALE:GREGORIAN
METHOD:PUBLISH
UID:38d3409f-0cc0-4b24-a898-fb57aff422bd
X-WR-CALNAME:iCagenda
X-WR-CALDESC:Event Management Extension for Joomla!
X-WR-RELCALID:3E26604A-50F4-4449-8B3E-E4F4932D05B5
X-WR-TIMEZONE:UTC
BEGIN:VTIMEZONE
TZID:UTC
END:VTIMEZONE
BEGIN:VEVENT
UID:fd0370c0-495e-4aec-b3ed-9b9ca42cd1cd
DTSTAMP:20260422T150511Z
CATEGORIES:Lingue straniere
CLASS:PUBLIC
DESCRIPTION;ALTREP="CID:<FFFF__=0ABBE548DFE235B58f9e8a93d@coffeebean.com>":
 Orario lezione: 14.45 - 15.50\nlettura e commento di un libro scelto dai p
 artecipanti. Approfondimento della sintassi riguardante le proposizioni se
 condarie.
DTSTART:20260421T144500Z
DTEND:20260421T144500Z
GEO:00;0
LOCATION:
ORGANIZER:
SEQUENCE:1
SUMMARY:Tedesco 3° Livello
TRANSP:OPAQUE
URL:https://www.unitresanmauro.it/index.php/component/icagenda/22-tedesco-3
 -livello/2026-04-21-14-45
END:VEVENT
END:VCALENDAR
