BEGIN:VCALENDAR
VERSION:2.0
PRODID:-//Unitre San Mauro//NONSGML kigkonsult.se iCalcreator 2.30.10//
CALSCALE:GREGORIAN
METHOD:PUBLISH
UID:cf91e94f-3832-49cd-81d3-13cb219b411b
X-WR-CALNAME:iCagenda
X-WR-CALDESC:Event Management Extension for Joomla!
X-WR-RELCALID:3E26604A-50F4-4449-8B3E-E4F4932D05B5
X-WR-TIMEZONE:UTC
BEGIN:VTIMEZONE
TZID:UTC
END:VTIMEZONE
BEGIN:VEVENT
UID:c39f63c7-d3b9-4ca3-b9f2-84245e4ba521
DTSTAMP:20260425T041801Z
CATEGORIES:Corsi e incontri
CLASS:PUBLIC
DESCRIPTION;ALTREP="CID:<FFFF__=0ABBE548DFE235B58f9e8a93d@coffeebean.com>":
 Orario lezione: 16.00 - 18.00
DTSTART:20231120T160000Z
DTEND:20231120T160000Z
GEO:00;0
LOCATION:
ORGANIZER:
SEQUENCE:1
SUMMARY:Italia - Cina - Intermediazione culturale
TRANSP:OPAQUE
URL:https://www.unitresanmauro.it/index.php/component/icagenda/26-cina-cult
 ura-tradizionale-e-folklore-2
END:VEVENT
END:VCALENDAR
