BEGIN:VCALENDAR
VERSION:2.0
PRODID:-//Unitre San Mauro//NONSGML kigkonsult.se iCalcreator 2.30.10//
CALSCALE:GREGORIAN
METHOD:PUBLISH
UID:a617cee7-cbeb-4f21-b7b7-5372c9b84339
X-WR-CALNAME:iCagenda
X-WR-CALDESC:Event Management Extension for Joomla!
X-WR-RELCALID:3E26604A-50F4-4449-8B3E-E4F4932D05B5
X-WR-TIMEZONE:UTC
BEGIN:VTIMEZONE
TZID:UTC
END:VTIMEZONE
BEGIN:VEVENT
UID:8c168d66-097c-4837-8f5d-d13fc0754c30
DTSTAMP:20260425T022914Z
CATEGORIES:Corsi e incontri
CLASS:PUBLIC
DESCRIPTION;ALTREP="CID:<FFFF__=0ABBE548DFE235B58f9e8a93d@coffeebean.com>":
 Orario lezione: 16.00 - 18.00
DTSTART:20241111T160000Z
DTEND:20241111T160000Z
GEO:00;0
LOCATION:
ORGANIZER:
SEQUENCE:1
SUMMARY:Un anno con Mozart
TRANSP:OPAQUE
URL:https://www.unitresanmauro.it/index.php/component/icagenda/30-gli-imper
 dibili-i-cento-pezzi-piu-belli-della-storia-della-musica-classica-2/2024-1
 1-11-16-00
END:VEVENT
END:VCALENDAR
