BEGIN:VCALENDAR
VERSION:2.0
PRODID:-//Unitre San Mauro//NONSGML kigkonsult.se iCalcreator 2.30.10//
CALSCALE:GREGORIAN
METHOD:PUBLISH
UID:94157fda-93aa-4830-84da-318a97bd0356
X-WR-CALNAME:iCagenda
X-WR-CALDESC:Event Management Extension for Joomla!
X-WR-RELCALID:3E26604A-50F4-4449-8B3E-E4F4932D05B5
X-WR-TIMEZONE:UTC
BEGIN:VTIMEZONE
TZID:UTC
END:VTIMEZONE
BEGIN:VEVENT
UID:ced2ecac-c316-417b-8126-d69e757ae18f
DTSTAMP:20260424T212606Z
CATEGORIES:Corsi e incontri
CLASS:PUBLIC
DESCRIPTION;ALTREP="CID:<FFFF__=0ABBE548DFE235B58f9e8a93d@coffeebean.com>":
 Orario lezione: 16.00 - 18.00
DTSTART:20250203T160000Z
DTEND:20250203T160000Z
GEO:00;0
LOCATION:
ORGANIZER:
SEQUENCE:1
SUMMARY:Un anno con Mozart
TRANSP:OPAQUE
URL:https://www.unitresanmauro.it/index.php/component/icagenda/30-gli-imper
 dibili-i-cento-pezzi-piu-belli-della-storia-della-musica-classica-2/2025-0
 2-03-16-00
END:VEVENT
END:VCALENDAR
