BEGIN:VCALENDAR
VERSION:2.0
PRODID:-//Unitre San Mauro//NONSGML kigkonsult.se iCalcreator 2.30.10//
CALSCALE:GREGORIAN
METHOD:PUBLISH
UID:c29324a9-a2f1-42ae-850e-59cc3cf7a1d4
X-WR-CALNAME:iCagenda
X-WR-CALDESC:Event Management Extension for Joomla!
X-WR-RELCALID:3E26604A-50F4-4449-8B3E-E4F4932D05B5
X-WR-TIMEZONE:UTC
BEGIN:VTIMEZONE
TZID:UTC
END:VTIMEZONE
BEGIN:VEVENT
UID:97bb4cf4-e206-4444-ba2b-b298a388b7a2
DTSTAMP:20260425T003642Z
CATEGORIES:Corsi e incontri
CLASS:PUBLIC
DESCRIPTION;ALTREP="CID:<FFFF__=0ABBE548DFE235B58f9e8a93d@coffeebean.com>":
 Orario lezione: 16.00 - 18.00\nFederico Ott\nTorinese\, classe '68\, è HR 
 consultant\, coach ACSTH e formatore. Laureato in Giurisprudenza\, ha matu
 rato una importante esperienza come direttore del Personale in diciotto an
 ni trascorsi in grandi organizzazioni in prevalenza industriali.&nbsp\;\nH
 a curato progetti di internazionalizzazione \, vanta una importante esperi
 enza internazionale in US e Spagna oltre a Francia\, Romania\, India e Cin
 a.&nbsp\;\nDal 2017 è Managing Partner di Risorsa Uomo\, società milanese 
 che opera nel settore della consulenza\, dello sviluppo delle competenze e
  nell'accelerazione dei processi di cambiamento.&nbsp\;\nOltre a testimoni
 anze e collaborazioni con varie Università (Bologna Business School\, IULM
 \, Milano Bicocca) è giornalista pubblicista e scrive su SenzaFiltro e alt
 re riviste professionali di Management trattando temi legati alle soft ski
 lls ed alla formazione manageriale. Membro del comitato scientifico del Ma
 ster di II livello in labor law &amp\; HRM della LUM e del Master in Inter
 national Management del CIS di Reggio Emilia\, unisce ai temi professional
 i la passione per il teatro\, sia in veste di attore che di autore\, e per
  l'arte creativa. È anche impegnato in alcuni progetti benefici. Da sempre
  appassionato di parole unisce l'esperienza in azienda e nel mondo della c
 onsulenza per utilizzarle al meglio per rendere la comunicazione più effic
 ace o\, quantomeno\, limitarne i rischi. Autore di Vivere Smart\, Manuale 
 di sopravvivenza ai tempi del distanziamento manageriale.&nbsp\;
DTSTART:20240129T160000Z
DTEND:20240129T160000Z
GEO:00;0
LOCATION:
ORGANIZER:
SEQUENCE:1
SUMMARY:L'arte della persuasione
TRANSP:OPAQUE
URL:https://www.unitresanmauro.it/index.php/component/icagenda/32-larte-del
 la-persuasione/2024-01-29-16-00
END:VEVENT
END:VCALENDAR
