BEGIN:VCALENDAR
VERSION:2.0
PRODID:-//Unitre San Mauro//NONSGML kigkonsult.se iCalcreator 2.30.10//
CALSCALE:GREGORIAN
METHOD:PUBLISH
UID:5bad15aa-ba7b-43c5-a7b8-cdcda6d92bdf
X-WR-CALNAME:iCagenda
X-WR-CALDESC:Event Management Extension for Joomla!
X-WR-RELCALID:3E26604A-50F4-4449-8B3E-E4F4932D05B5
X-WR-TIMEZONE:UTC
BEGIN:VTIMEZONE
TZID:UTC
END:VTIMEZONE
BEGIN:VEVENT
UID:045def21-24b3-41d5-a505-0e5bfc878c48
DTSTAMP:20260424T194346Z
CATEGORIES:Corsi e incontri
CLASS:PUBLIC
DESCRIPTION;ALTREP="CID:<FFFF__=0ABBE548DFE235B58f9e8a93d@coffeebean.com>":
 Orario lezione: 16.00 - 18.00\n&nbsp\;\n\nFrancesca\, nata a Torino nel 19
 74\, avvocato che ha lasciato la professione per dedicarsi ad esperienze d
 iversificate nel terzo settore\, è tuttora alla ricerca di un'occasione ch
 e possa unire attitudini personali e mestiere.\nInquieta e curiosa\, è par
 ticolarmente emotiva e fortunatamente tenace.\nAmante della scrittura\, ha
  all'attivo la pubblicazione di un libro\, un racconto breve e diverse poe
 sie.
DTSTART:20240422T160000Z
DTEND:20240422T160000Z
GEO:00;0
LOCATION:
ORGANIZER:
SEQUENCE:1
SUMMARY:Un salto in Inghilterra
TRANSP:OPAQUE
URL:https://www.unitresanmauro.it/index.php/component/icagenda/34-un-salto-
 in-inghilterra/2024-04-22-16-00
END:VEVENT
END:VCALENDAR
