BEGIN:VCALENDAR
VERSION:2.0
PRODID:-//Unitre San Mauro//NONSGML kigkonsult.se iCalcreator 2.30.10//
CALSCALE:GREGORIAN
METHOD:PUBLISH
UID:074b13ed-4dca-45eb-8dee-254e1f5b594d
X-WR-CALNAME:iCagenda
X-WR-CALDESC:Event Management Extension for Joomla!
X-WR-RELCALID:3E26604A-50F4-4449-8B3E-E4F4932D05B5
X-WR-TIMEZONE:UTC
BEGIN:VTIMEZONE
TZID:UTC
END:VTIMEZONE
BEGIN:VEVENT
UID:20046498-5be5-41dc-b612-dbccdb660c3a
DTSTAMP:20260425T003653Z
CATEGORIES:Corsi e incontri
CLASS:PUBLIC
DESCRIPTION;ALTREP="CID:<FFFF__=0ABBE548DFE235B58f9e8a93d@coffeebean.com>":
 Orario lezione: 16.00 - 18.00
DTSTART:20230214T160000Z
DTEND:20230214T160000Z
GEO:00;0
LOCATION:
ORGANIZER:
SEQUENCE:1
SUMMARY:Discorsi sull'arte in mostra
TRANSP:OPAQUE
URL:https://www.unitresanmauro.it/index.php/component/icagenda/35-discorsi-
 sullarte-in-mostra/2023-02-14-16-00
END:VEVENT
END:VCALENDAR
