BEGIN:VCALENDAR
VERSION:2.0
PRODID:-//Unitre San Mauro//NONSGML kigkonsult.se iCalcreator 2.30.10//
CALSCALE:GREGORIAN
METHOD:PUBLISH
UID:99364da0-d9bf-4325-9cc9-1fbcc8c4676e
X-WR-CALNAME:iCagenda
X-WR-CALDESC:Event Management Extension for Joomla!
X-WR-RELCALID:3E26604A-50F4-4449-8B3E-E4F4932D05B5
X-WR-TIMEZONE:UTC
BEGIN:VTIMEZONE
TZID:UTC
END:VTIMEZONE
BEGIN:VEVENT
UID:6499e0f0-6b1d-4d86-bf99-1798af0bbd87
DTSTAMP:20260424T225030Z
CATEGORIES:Corsi e incontri
CLASS:PUBLIC
DESCRIPTION;ALTREP="CID:<FFFF__=0ABBE548DFE235B58f9e8a93d@coffeebean.com>":
 Orario lezione: 16.00 - 18.00\n\nIl corso è il naturale proseguimento di q
 uelli tenuti in passato sulla base di criteri metodologici ormai noti agli
  allievi.\n&nbsp\;\nSilvio Bertotto\nlaureato in Scienze politiche\, archi
 vista e storico\, è autore di numerosi studi e di una trentina di libri su
 lla storia moderna e contemporanea del Piemonte. Nel 1996\, con il volume 
 I campi e le ciminiere (Allemandi\, Torino 1995)\, ha vinto il Premio Baud
 i di Vesme della Deputazione subalpina di storia patria. Ha pure collabora
 to con l’Università di Torino (dipartimenti di Scienze sociali\, Studi pol
 itici e Scienze antropologiche). Inoltre fa parte del consiglio direttivo 
 della Società storica chivassese ed è socio della Société savoisienne d’hi
 stoire et d’archéologie di Chambéry.
DTSTART:20240206T160000Z
DTEND:20240206T160000Z
GEO:00;0
LOCATION:
ORGANIZER:
SEQUENCE:1
SUMMARY:Gli anni del fascismo
TRANSP:OPAQUE
URL:https://www.unitresanmauro.it/index.php/component/icagenda/36-gli-anni-
 del-fascismo/2024-02-06-16-00
END:VEVENT
END:VCALENDAR
