BEGIN:VCALENDAR
VERSION:2.0
PRODID:-//Unitre San Mauro//NONSGML kigkonsult.se iCalcreator 2.30.10//
CALSCALE:GREGORIAN
METHOD:PUBLISH
UID:011aa333-b1a7-4eb3-854e-b19c319f2011
X-WR-CALNAME:iCagenda
X-WR-CALDESC:Event Management Extension for Joomla!
X-WR-RELCALID:3E26604A-50F4-4449-8B3E-E4F4932D05B5
X-WR-TIMEZONE:UTC
BEGIN:VTIMEZONE
TZID:UTC
END:VTIMEZONE
BEGIN:VEVENT
UID:fc0d722b-2904-4a7c-b840-f931f7bd3731
DTSTAMP:20260425T003600Z
CATEGORIES:Corsi e incontri
CLASS:PUBLIC
DESCRIPTION;ALTREP="CID:<FFFF__=0ABBE548DFE235B58f9e8a93d@coffeebean.com>":
 Orario lezione: 16.00 - 18.00\n\nIl corso è il naturale proseguimento di q
 uelli tenuti in passato sulla base di criteri metodologici ormai noti agli
  allievi.\n&nbsp\;\nSilvio Bertotto\nlaureato in Scienze politiche\, archi
 vista e storico\, è autore di numerosi studi e di una trentina di libri su
 lla storia moderna e contemporanea del Piemonte. Nel 1996\, con il volume 
 I campi e le ciminiere (Allemandi\, Torino 1995)\, ha vinto il Premio Baud
 i di Vesme della Deputazione subalpina di storia patria. Ha pure collabora
 to con l’Università di Torino (dipartimenti di Scienze sociali\, Studi pol
 itici e Scienze antropologiche). Inoltre fa parte del consiglio direttivo 
 della Società storica chivassese ed è socio della Société savoisienne d’hi
 stoire et d’archéologie di Chambéry.
DTSTART:20240416T160000Z
DTEND:20240416T160000Z
GEO:00;0
LOCATION:
ORGANIZER:
SEQUENCE:1
SUMMARY:Gli anni del fascismo
TRANSP:OPAQUE
URL:https://www.unitresanmauro.it/index.php/component/icagenda/36-gli-anni-
 del-fascismo
END:VEVENT
END:VCALENDAR
