BEGIN:VCALENDAR
VERSION:2.0
PRODID:-//Unitre San Mauro//NONSGML kigkonsult.se iCalcreator 2.30.10//
CALSCALE:GREGORIAN
METHOD:PUBLISH
UID:207b46e5-246d-43d5-8fa3-3bbfb7ea5a03
X-WR-CALNAME:iCagenda
X-WR-CALDESC:Event Management Extension for Joomla!
X-WR-RELCALID:3E26604A-50F4-4449-8B3E-E4F4932D05B5
X-WR-TIMEZONE:UTC
BEGIN:VTIMEZONE
TZID:UTC
END:VTIMEZONE
BEGIN:VEVENT
UID:99e6d7e5-2a1c-42b3-b1a5-7433880231cd
DTSTAMP:20260425T022914Z
CATEGORIES:Corsi e incontri
CLASS:PUBLIC
DESCRIPTION;ALTREP="CID:<FFFF__=0ABBE548DFE235B58f9e8a93d@coffeebean.com>":
 Orario lezione: 16.00 - 18.00
DTSTART:20230117T160000Z
DTEND:20230117T160000Z
GEO:00;0
LOCATION:
ORGANIZER:
SEQUENCE:1
SUMMARY:Incontro con l'autore: Sara Anceschi presenta 'mamma\, tu in che pa
 ncia sei nata?'
TRANSP:OPAQUE
URL:https://www.unitresanmauro.it/index.php/component/icagenda/37-incontro-
 con-lautore-sara-anceschi-presenta-mamma-tu-in-che-pancia-sei-nata/2023-01
 -17-16-00
END:VEVENT
END:VCALENDAR
