BEGIN:VCALENDAR
VERSION:2.0
PRODID:-//Unitre San Mauro//NONSGML kigkonsult.se iCalcreator 2.30.10//
CALSCALE:GREGORIAN
METHOD:PUBLISH
UID:f7f9d828-55b5-4417-bbe0-d1e47fc1fbb6
X-WR-CALNAME:iCagenda
X-WR-CALDESC:Event Management Extension for Joomla!
X-WR-RELCALID:3E26604A-50F4-4449-8B3E-E4F4932D05B5
X-WR-TIMEZONE:UTC
BEGIN:VTIMEZONE
TZID:UTC
END:VTIMEZONE
BEGIN:VEVENT
UID:23c2b1a3-3d19-4275-9e2e-3da7c158f32f
DTSTAMP:20260425T003653Z
CATEGORIES:Corsi e incontri
CLASS:PUBLIC
DESCRIPTION:
DTSTART:20260112T160000Z
DTEND:20260112T160000Z
GEO:00;0
LOCATION:
ORGANIZER:
SEQUENCE:1
SUMMARY:Percorsi di storia locale
TRANSP:OPAQUE
URL:https://www.unitresanmauro.it/index.php/component/icagenda/38-percorsi-
 di-storia-locale/2026-01-12-16-00
END:VEVENT
END:VCALENDAR
