BEGIN:VCALENDAR
VERSION:2.0
PRODID:-//Unitre San Mauro//NONSGML kigkonsult.se iCalcreator 2.30.10//
CALSCALE:GREGORIAN
METHOD:PUBLISH
UID:d3335dc6-6d67-4ebf-9e1c-e94f9e2c21d7
X-WR-CALNAME:iCagenda
X-WR-CALDESC:Event Management Extension for Joomla!
X-WR-RELCALID:3E26604A-50F4-4449-8B3E-E4F4932D05B5
X-WR-TIMEZONE:UTC
BEGIN:VTIMEZONE
TZID:UTC
END:VTIMEZONE
BEGIN:VEVENT
UID:c53b3e99-f821-4e75-9fb8-630725fded8a
DTSTAMP:20260424T225015Z
CATEGORIES:Corsi e incontri
CLASS:PUBLIC
DESCRIPTION;ALTREP="CID:<FFFF__=0ABBE548DFE235B58f9e8a93d@coffeebean.com>":
 Orario lezione: 16.00 - 18.00
DTSTART:20240216T160000Z
DTEND:20240216T160000Z
GEO:00;0
LOCATION:
ORGANIZER:
SEQUENCE:1
SUMMARY:Economia per tutti. Curiosità e consigli per i nostri risparmi
TRANSP:OPAQUE
URL:https://www.unitresanmauro.it/index.php/component/icagenda/39-economia-
 per-tutti-curiosita-e-consigli-per-i-nostri-risparmi/2024-02-16-16-00
END:VEVENT
END:VCALENDAR
