BEGIN:VCALENDAR
VERSION:2.0
PRODID:-//Unitre San Mauro//NONSGML kigkonsult.se iCalcreator 2.30.10//
CALSCALE:GREGORIAN
METHOD:PUBLISH
UID:655de6d5-1706-4814-bf77-9a5c98b73a4a
X-WR-CALNAME:iCagenda
X-WR-CALDESC:Event Management Extension for Joomla!
X-WR-RELCALID:3E26604A-50F4-4449-8B3E-E4F4932D05B5
X-WR-TIMEZONE:UTC
BEGIN:VTIMEZONE
TZID:UTC
END:VTIMEZONE
BEGIN:VEVENT
UID:3521d42a-5bfa-4ae3-9e8a-fcd17357e753
DTSTAMP:20260425T041133Z
CATEGORIES:Corsi e incontri
CLASS:PUBLIC
DESCRIPTION;ALTREP="CID:<FFFF__=0ABBE548DFE235B58f9e8a93d@coffeebean.com>":
 Orario lezione: 16.00 - 18.00\nIn quattro incontri scopriremo che cos’è l’
 autostima e come influisce su ogni aspetto della nostra vita\, dal lavoro 
 alla famiglia\, alle relazioni sociali.\nChi ha bassa autostima ha una sca
 rsa considerazione di sé (“non so fare bene le cose come gli altri”)\, ha 
 difficoltà ad esprimere emozioni e sentimenti\, teme di fallire\; perciò\,
  a volte si trova in situazioni dove fatica a rapportarsi con gli altri e 
 a sentirsi soddisfatto di sé.\nQualsiasi sia la nostra storia\, è possibil
 e migliorare la fiducia nelle nostre capacità e sentirci in diritto di man
 ifestare opinioni\, desideri\, valori che sentiamo importanti per noi.\nL’
 obiettivo del corso è di riflettere sulla propria identità\, a partire dal
 le esperienze passate\, scoprire le proprie risorse e le proprie difficolt
 à\, imparando ad accettarsi ed acquisendo maggiore fiducia in se stessi.\n
 Valeria-&nbsp\;\nMentre frequento l’Università\, comincio a lavorare come 
 educatrice\, occupandomi di disagio mentale. Negli anni successivi ho modo
  di confrontarmi con altri tipi di problematiche (dipendenza\, disabilità\
 , violenza) e di lavorare con bambini\, adolescenti e adulti.\nDecido di a
 mpliare le mie competenze professionali e mi iscrivo alla Scuola di counse
 ling professionale dell’Istituto A. Adler di Torino\, dove mi diplomo nel 
 2016.\nNel 2017 termino il corso per Mediatore culturale/interculturale\, 
 che mi permette di conseguire ulteriori strumenti da utilizzare nel mio la
 voro.\nDal 2018 sono docente presso l’Unitre\, dove conduco corsi e labora
 tori su comunicazione\, autostima\, autobiografia e mindfulness.\nCome cou
 nselor mi occupo di sostegno alle persone in situazioni di difficoltà pers
 onali\, lavorative\, di coppia\, familiari e conduco gruppi di approfondim
 ento su diverse tematiche legate allo sviluppo personale.\n&nbsp\;
DTSTART:20221213T160000Z
DTEND:20221213T160000Z
GEO:00;0
LOCATION:
ORGANIZER:
SEQUENCE:1
SUMMARY:Sviluppare l'autostima
TRANSP:OPAQUE
URL:https://www.unitresanmauro.it/index.php/component/icagenda/40-sviluppar
 e-lautostima/2022-12-13-16-00
END:VEVENT
END:VCALENDAR
