BEGIN:VCALENDAR
VERSION:2.0
PRODID:-//Unitre San Mauro//NONSGML kigkonsult.se iCalcreator 2.30.10//
CALSCALE:GREGORIAN
METHOD:PUBLISH
UID:09e5d2b7-dace-4052-885b-7d33a4ac292f
X-WR-CALNAME:iCagenda
X-WR-CALDESC:Event Management Extension for Joomla!
X-WR-RELCALID:3E26604A-50F4-4449-8B3E-E4F4932D05B5
X-WR-TIMEZONE:UTC
BEGIN:VTIMEZONE
TZID:UTC
END:VTIMEZONE
BEGIN:VEVENT
UID:73f4fff5-859d-4362-bc0a-e6d2c696ccf2
DTSTAMP:20260425T041224Z
CATEGORIES:Corsi e incontri
CLASS:PUBLIC
DESCRIPTION;ALTREP="CID:<FFFF__=0ABBE548DFE235B58f9e8a93d@coffeebean.com>":
 Orario lezione: 16.00 - 18.00
DTSTART:20251118T160000Z
DTEND:20251118T160000Z
GEO:00;0
LOCATION:
ORGANIZER:
SEQUENCE:1
SUMMARY:Viaggi e miraggi in terre lontane
TRANSP:OPAQUE
URL:https://www.unitresanmauro.it/index.php/component/icagenda/42-viaggi-e-
 miraggi-in-terre-lontane/2025-11-18-16-00
END:VEVENT
END:VCALENDAR
