BEGIN:VCALENDAR
VERSION:2.0
PRODID:-//Unitre San Mauro//NONSGML kigkonsult.se iCalcreator 2.30.10//
CALSCALE:GREGORIAN
METHOD:PUBLISH
UID:e6514d4c-8939-4813-a5d7-c707106e8af6
X-WR-CALNAME:iCagenda
X-WR-CALDESC:Event Management Extension for Joomla!
X-WR-RELCALID:3E26604A-50F4-4449-8B3E-E4F4932D05B5
X-WR-TIMEZONE:UTC
BEGIN:VTIMEZONE
TZID:UTC
END:VTIMEZONE
BEGIN:VEVENT
UID:6fcf57c4-0531-4c56-9d55-f37e1d8e9359
DTSTAMP:20260424T224815Z
CATEGORIES:Corsi e incontri
CLASS:PUBLIC
DESCRIPTION;ALTREP="CID:<FFFF__=0ABBE548DFE235B58f9e8a93d@coffeebean.com>":
 Orario lezione: 16.00 - 18.00\nRosa Battaglia&nbsp\;&nbsp\;Ott&nbsp\;\nLau
 rea in Giurisprudenza&nbsp\;\nDal 1958 al 1967&nbsp\;&nbsp\;all'Ufficio St
 ampa della UCID – Unione Cristiana Imprenditori e Dirigenti –&nbsp\;&nbsp\
 ;redazione della rivista bimestrale 'Operare' e del mensile 'Responsabilit
 à'.&nbsp\;\nDal 1964 al 1992 insegnamento presso molte scuole di Torino e 
 provincia\, dal Real Collegio Carlo Alberto di Moncalieri all'Istituto Tec
 nico per Ragionieri ' Vera e Libera Arduino'&nbsp\;\nNel 1994 nominata&nbs
 p\;Giudice di Pace&nbsp\;presso l'Ufficio di Torino con ingresso in serviz
 io il 5 aprile 1995.&nbsp\;\nDal 5 maggio 2006 al 2 ottobre 2009&nbsp\;&nb
 sp\;Coordinatore&nbsp\;dell'Ufficio del GdP di Torino.&nbsp\;\n&nbsp\;Pubb
 licazioni e attività varie&nbsp\;\nDal 1985 al 1992&nbsp\;&nbsp\;collabora
 zione alle due pubblicazioni edite dalla Casa Editrice Tramontana di Milan
 o: 'Rivista di Ragioneria- Tecnica Commerciale -Diritto- Economia' e 'Prog
 ettiamo'&nbsp\;\nRelatrice&nbsp\;in vari corsi di aggiornamento per i doce
 nti di diritto ed economia di Torino e Provincia\, organizzati dalla UCIIM
 - Unione Cattolica Insegnanti Italiani Medi -&nbsp\;\nDal 1985 al 1992 mem
 bro delle commissioni di esami del&nbsp\;San Paolo IMI&nbsp\;quale esperta
  di Diritto ed Economia&nbsp\;&nbsp\;nei concorsi nazionali per impiegati.
 &nbsp\;\nDal 1991 al 1999\, su incarico del&nbsp\;CE.SE.DI -&nbsp\;&nbsp\;
 Centro Sussidi Didattici della Provincia di Torino&nbsp\;–&nbsp\;&nbsp\;re
 dazione di dispense di diritto ed economia per&nbsp\;&nbsp\;micro corsi di
  diritto e di economia politica&nbsp\;&nbsp\;tenuti dalla sottoscritta nel
 le scuole secondarie di Torino e Provincia .&nbsp\;\nNegli anni 1990-91 pu
 bblicazione di&nbsp\;otto opuscoli di test giuridici&nbsp\;editi dalla&nbs
 p\;Casa Editrice Tramontana di Milano&nbsp\;e venduti in allegato ai relat
 ivi libri di testo per gli istituti tecnici.&nbsp\;&nbsp\;\nNel 1993&nbsp\
 ;&nbsp\;pubblicazione di una Collana di tre volumi per le scuole superiori
  edita dalla&nbsp\;&nbsp\;&nbsp\;&nbsp\;CETIM – EDIL BOOK&nbsp\;&nbsp\;spa
  (ora RCS Scuola spa)&nbsp\;di Milano&nbsp\;\nDiritto commerciale e Fallim
 entare&nbsp\;\nNel 1997 pubblicazione per la&nbsp\;Casa Editrice ESSELIBRI
 &nbsp\;&nbsp\;SIMONE&nbsp\;&nbsp\;di Napoli&nbsp\;del volume&nbsp\;'Il Pro
 cesso davanti al Giudice di Pace'&nbsp\;(&nbsp\;II° edizione nel 2002)&nbs
 p\;\nNel 1999 pubblicazione per la&nbsp\;Casa Editrice ESSELIBRI SIMONE di
  Napoli\, Collana Finanze &amp\; Lavoro\,&nbsp\;&nbsp\;del volume 'I dirit
 ti dei consumatori'&nbsp\;\nNel 2005 pubblicazione per la&nbsp\;Casa Editr
 ice 'LA TRIBUNA' di Piacenza&nbsp\;de&nbsp\;'Il formulario del Giudice di 
 Pace' di cui ha curato le prime due parti : il processo civile davanti al 
 GdP e le opposizioni alle sanzioni amministrative&nbsp\;\n&nbsp\;\nRelatri
 ce&nbsp\;in due corsi di formazione per i nuovi Giudici di Pace nel 2001 e
  2002.&nbsp\;\nGiudice assegnatario per il tirocinio dei nuovi Giudici di 
 Pace negli anni 2001- 2002- 2003 - e 2004&nbsp\;&nbsp\;\nDal 2014&nbsp\;&n
 bsp\;tiene annualmente presso l'UNITRE di San Mauro Torinese una o due&nbs
 p\;&nbsp\;conferenze (di due ore ciascuna)&nbsp\;&nbsp\;&nbsp\;su argoment
 i giuridico sociale&nbsp\;&nbsp\;\nDal 2015 al 2017 ha insegnato diritto n
 elle sezioni carcerarie dell'I.I.T. Giulio di Torino c/o la&nbsp\;&nbsp\;C
 asa&nbsp\;&nbsp\;Circondariale 'Lorusso e Cutugno'&nbsp\;&nbsp\;&nbsp\;di 
 Torino.&nbsp\;
DTSTART:20230329T160000Z
DTEND:20230329T160000Z
GEO:00;0
LOCATION:
ORGANIZER:
SEQUENCE:1
SUMMARY:I cinque Papi del XX secolo
TRANSP:OPAQUE
URL:https://www.unitresanmauro.it/index.php/component/icagenda/43-i-cinque-
 papi-del-xx-secolo/2023-03-29-16-00
END:VEVENT
END:VCALENDAR
