BEGIN:VCALENDAR
VERSION:2.0
PRODID:-//Unitre San Mauro//NONSGML kigkonsult.se iCalcreator 2.30.10//
CALSCALE:GREGORIAN
METHOD:PUBLISH
UID:771e5ce5-45ae-4ddd-af1c-70d514e3b74c
X-WR-CALNAME:iCagenda
X-WR-CALDESC:Event Management Extension for Joomla!
X-WR-RELCALID:3E26604A-50F4-4449-8B3E-E4F4932D05B5
X-WR-TIMEZONE:UTC
BEGIN:VTIMEZONE
TZID:UTC
END:VTIMEZONE
BEGIN:VEVENT
UID:bf221049-e46d-4ba8-975f-6e81f81d2709
DTSTAMP:20260425T040819Z
CATEGORIES:Corsi e incontri
CLASS:PUBLIC
DESCRIPTION;ALTREP="CID:<FFFF__=0ABBE548DFE235B58f9e8a93d@coffeebean.com>":
 Orario lezione: 16.00 – 18.00\n&nbsp\;18 Ottobre: Il disagio della società
  (freud)\n15 Novembre: Alfred Adler\n29 Novembre: Eric Fromm\n13 Dicembre:
  Karen Horney\n10 Gennaio: la Psicologia Positiva
DTSTART:20231115T160000Z
DTEND:20231115T160000Z
GEO:00;0
LOCATION:
ORGANIZER:
SEQUENCE:1
SUMMARY:Psicoanalisi e società
TRANSP:OPAQUE
URL:https://www.unitresanmauro.it/index.php/component/icagenda/44-psicoanal
 isi-e-societa/2023-11-15-16-00
END:VEVENT
END:VCALENDAR
