BEGIN:VCALENDAR
VERSION:2.0
PRODID:-//Unitre San Mauro//NONSGML kigkonsult.se iCalcreator 2.30.10//
CALSCALE:GREGORIAN
METHOD:PUBLISH
UID:a4b66491-81ca-4dc6-9a95-7baa9da2ccce
X-WR-CALNAME:iCagenda
X-WR-CALDESC:Event Management Extension for Joomla!
X-WR-RELCALID:3E26604A-50F4-4449-8B3E-E4F4932D05B5
X-WR-TIMEZONE:UTC
BEGIN:VTIMEZONE
TZID:UTC
END:VTIMEZONE
BEGIN:VEVENT
UID:259b32a0-2e13-44ea-b5cc-c3db558e21f7
DTSTAMP:20260424T175738Z
CATEGORIES:Corsi e incontri
CLASS:PUBLIC
DESCRIPTION;ALTREP="CID:<FFFF__=0ABBE548DFE235B58f9e8a93d@coffeebean.com>":
 &nbsp\;\n&nbsp\;
DTSTART:20260305T160000Z
DTEND:20260305T160000Z
GEO:00;0
LOCATION:
ORGANIZER:
SEQUENCE:1
SUMMARY:Sociologia\, la scienza che insegna a vedere le cose al di là dell'
 ovvio
TRANSP:OPAQUE
URL:https://www.unitresanmauro.it/index.php/component/icagenda/45-sociologi
 a-la-scienza-che-insegna-a-vedere-le-cose-al-di-la-dellovvio/2026-03-05-16
 -00
END:VEVENT
END:VCALENDAR
