BEGIN:VCALENDAR
VERSION:2.0
PRODID:-//Unitre San Mauro//NONSGML kigkonsult.se iCalcreator 2.30.10//
CALSCALE:GREGORIAN
METHOD:PUBLISH
UID:21555e7e-fe92-4438-80a1-cd4e74e59007
X-WR-CALNAME:iCagenda
X-WR-CALDESC:Event Management Extension for Joomla!
X-WR-RELCALID:3E26604A-50F4-4449-8B3E-E4F4932D05B5
X-WR-TIMEZONE:UTC
BEGIN:VTIMEZONE
TZID:UTC
END:VTIMEZONE
BEGIN:VEVENT
UID:c8a4347a-07a5-4316-9369-53a3e2734b18
DTSTAMP:20260424T174922Z
CATEGORIES:Corsi e incontri
CLASS:PUBLIC
DESCRIPTION;ALTREP="CID:<FFFF__=0ABBE548DFE235B58f9e8a93d@coffeebean.com>":
 &nbsp\;\n&nbsp\;
DTSTART:20260331T162600Z
DTEND:20260331T162600Z
GEO:00;0
LOCATION:
ORGANIZER:
SEQUENCE:1
SUMMARY:Sociologia\, la scienza che insegna a vedere le cose al di là dell'
 ovvio
TRANSP:OPAQUE
URL:https://www.unitresanmauro.it/index.php/component/icagenda/45-sociologi
 a-la-scienza-che-insegna-a-vedere-le-cose-al-di-la-dellovvio/2026-03-31-16
 -26
END:VEVENT
END:VCALENDAR
