BEGIN:VCALENDAR
VERSION:2.0
PRODID:-//Unitre San Mauro//NONSGML kigkonsult.se iCalcreator 2.30.10//
CALSCALE:GREGORIAN
METHOD:PUBLISH
UID:f2fe8754-9634-4a72-8513-db977a150dc7
X-WR-CALNAME:iCagenda
X-WR-CALDESC:Event Management Extension for Joomla!
X-WR-RELCALID:3E26604A-50F4-4449-8B3E-E4F4932D05B5
X-WR-TIMEZONE:UTC
BEGIN:VTIMEZONE
TZID:UTC
END:VTIMEZONE
BEGIN:VEVENT
UID:e52f7454-d5c7-48ed-9be7-d86570e1dc00
DTSTAMP:20260424T160502Z
CATEGORIES:Corsi e incontri
CLASS:PUBLIC
DESCRIPTION;ALTREP="CID:<FFFF__=0ABBE548DFE235B58f9e8a93d@coffeebean.com>":
 Orario lezione: 16.00 - 18.00
DTSTART:20260422T160000Z
DTEND:20260422T160000Z
GEO:00;0
LOCATION:
ORGANIZER:
SEQUENCE:1
SUMMARY:Storia della filosofia
TRANSP:OPAQUE
URL:https://www.unitresanmauro.it/index.php/component/icagenda/46-storia-de
 lla-filosofia/2026-04-22-16-00
END:VEVENT
END:VCALENDAR
