BEGIN:VCALENDAR
VERSION:2.0
PRODID:-//Unitre San Mauro//NONSGML kigkonsult.se iCalcreator 2.30.10//
CALSCALE:GREGORIAN
METHOD:PUBLISH
UID:5dd18bf0-6525-4bc6-95ec-ac28fa199440
X-WR-CALNAME:iCagenda
X-WR-CALDESC:Event Management Extension for Joomla!
X-WR-RELCALID:3E26604A-50F4-4449-8B3E-E4F4932D05B5
X-WR-TIMEZONE:UTC
BEGIN:VTIMEZONE
TZID:UTC
END:VTIMEZONE
BEGIN:VEVENT
UID:f9952268-f281-400c-96d7-15ff29b5ea9f
DTSTAMP:20260424T175301Z
CATEGORIES:Corsi e incontri
CLASS:PUBLIC
DESCRIPTION;ALTREP="CID:<FFFF__=0ABBE548DFE235B58f9e8a93d@coffeebean.com>":
 Orario lezione: 16.00 - 18.00\nUnico tra gli esseri viventi l’uomo è dotat
 o di parola. Con essa comunica al di là del tempo e dello spazio\, costrui
 sce relazioni e mondi. Ogni parola dunque&nbsp\; racchiude infinite cose e
  noi\, senza un disegno preciso\, vagabondando\, appunto\,&nbsp\; cerchere
 mo di&nbsp\; scoprirne qualcuna attraverso quel tesoro di parole che è la 
 letteratura.\nAdriana Stramignoni. Laureata in storia medioevale\, già doc
 ente di materie letterarie nelle scuole superiori e docente presso l’ Unit
 re di San Mauro dal 2012
DTSTART:20250402T160000Z
DTEND:20250402T160000Z
GEO:00;0
LOCATION:
ORGANIZER:
SEQUENCE:1
SUMMARY:Continuando a vagabondare nel mare della letteratura...
TRANSP:OPAQUE
URL:https://www.unitresanmauro.it/index.php/component/icagenda/47-vagabonda
 ggi-nelle-parole/2025-04-02-16-00
END:VEVENT
END:VCALENDAR
