BEGIN:VCALENDAR
VERSION:2.0
PRODID:-//Unitre San Mauro//NONSGML kigkonsult.se iCalcreator 2.30.10//
CALSCALE:GREGORIAN
METHOD:PUBLISH
UID:28361e4b-9a3e-4831-89e2-dcd9b0659502
X-WR-CALNAME:iCagenda
X-WR-CALDESC:Event Management Extension for Joomla!
X-WR-RELCALID:3E26604A-50F4-4449-8B3E-E4F4932D05B5
X-WR-TIMEZONE:UTC
BEGIN:VTIMEZONE
TZID:UTC
END:VTIMEZONE
BEGIN:VEVENT
UID:c5b49c37-3853-4d46-b78a-d8029d957633
DTSTAMP:20260425T003728Z
CATEGORIES:Corsi e incontri
CLASS:PUBLIC
DESCRIPTION;ALTREP="CID:<FFFF__=0ABBE548DFE235B58f9e8a93d@coffeebean.com>":
 Orario lezione: 16.00 - 18.00
DTSTART:20260122T160000Z
DTEND:20260122T180000Z
GEO:00;0
LOCATION:
ORGANIZER:
SEQUENCE:1
SUMMARY:Storia dell'arte e archeologia
TRANSP:OPAQUE
URL:https://www.unitresanmauro.it/index.php/component/icagenda/48-corso-di-
 storia-dellarte-e-archeologia/2026-01-22-16-00
END:VEVENT
END:VCALENDAR
