BEGIN:VCALENDAR
VERSION:2.0
PRODID:-//Unitre San Mauro//NONSGML kigkonsult.se iCalcreator 2.30.10//
CALSCALE:GREGORIAN
METHOD:PUBLISH
UID:f2e338ba-84ce-413f-ac99-b9c8da8e79e7
X-WR-CALNAME:iCagenda
X-WR-CALDESC:Event Management Extension for Joomla!
X-WR-RELCALID:3E26604A-50F4-4449-8B3E-E4F4932D05B5
X-WR-TIMEZONE:UTC
BEGIN:VTIMEZONE
TZID:UTC
END:VTIMEZONE
BEGIN:VEVENT
UID:b8216a04-4ac5-4ab8-a001-e387416bf5a2
DTSTAMP:20260425T042135Z
CATEGORIES:Corsi e incontri
CLASS:PUBLIC
DESCRIPTION:
DTSTART:20251120T160000Z
DTEND:20251120T180000Z
GEO:00;0
LOCATION:
ORGANIZER:
SEQUENCE:1
SUMMARY:Grafologia - laboratorio seminariale: approffondiamo le nostre scri
 tture personali
TRANSP:OPAQUE
URL:https://www.unitresanmauro.it/index.php/component/icagenda/51-la-grafol
 ogia-uno-strumento-per-conoscere-meglio-se-stessi-e-gli-altri/2025-11-20-1
 6-00
END:VEVENT
END:VCALENDAR
