BEGIN:VCALENDAR
VERSION:2.0
PRODID:-//Unitre San Mauro//NONSGML kigkonsult.se iCalcreator 2.30.10//
CALSCALE:GREGORIAN
METHOD:PUBLISH
UID:abbd95b2-490c-4bf9-b3b0-1b101ec06e29
X-WR-CALNAME:iCagenda
X-WR-CALDESC:Event Management Extension for Joomla!
X-WR-RELCALID:3E26604A-50F4-4449-8B3E-E4F4932D05B5
X-WR-TIMEZONE:UTC
BEGIN:VTIMEZONE
TZID:UTC
END:VTIMEZONE
BEGIN:VEVENT
UID:95a5d319-8c5e-4f36-bdde-a23fb6cab679
DTSTAMP:20260425T005653Z
CATEGORIES:Corsi e incontri
CLASS:PUBLIC
DESCRIPTION;ALTREP="CID:<FFFF__=0ABBE548DFE235B58f9e8a93d@coffeebean.com>":
 Orario lezione: 16.00 - 18.00\n02 febbraio 2023 - Sociologia del Lavoro – 
 Evoluzione del Mercato del Lavoro\nStudio delle Periodizzazioni dal dopogu
 erra ad oggi con specifico riferimento al declino dell’industria ed all’in
 cremento del Terziario\, la Globalizzazione e la rivoluzione tecnologica\n
 02 marzo 2023 - Psicologia Sociale (La Scienza della persuasione)\nStudio 
 delle regole della comunicazione persuasiva\, gli studiosi di psicologia s
 ociale sperimentale sanno molto bene che la capacità dell’individuo d’iden
 tificare i fattori che influenzano il suo comportamento è sorprendentement
 e scarsa. Da queste premesse cercheremo di identificare i punti fondamenta
 li che condizionano i comportamenti sociali.&nbsp\;\n30 marzo 2023 - Socio
 logia della Comunicazione\nCome il capitale liquido è pronto a qualsiasi t
 ipo di investimento\, il capitale della paura può essere indirizzato verso
  qualsiasi tipo di profitto\, commerciale o politico (Zygmunt Bauman “il d
 emone della paura”).\nLa lezione si propone l’obiettivo di cercare di capi
 re gli effetti della comunicazione attraverso i media &nbsp\;al fine di es
 sere consapevoli delle possibili forme di manipolazione esistenti nel camp
 o dell’informazione.
DTSTART:20230202T160000Z
DTEND:20230202T160000Z
GEO:00;0
LOCATION:
ORGANIZER:
SEQUENCE:1
SUMMARY:Sociologia la scienza che insegna a vedere le cose al di là dell'ov
 vio - 2a parte
TRANSP:OPAQUE
URL:https://www.unitresanmauro.it/index.php/component/icagenda/52-sociologi
 a-la-scienza-che-insegna-a-vedere-le-cose-al-di-la-dellovvio-2a-parte/2023
 -02-02-16-00
END:VEVENT
END:VCALENDAR
